BEGIN:VCALENDAR
VERSION:2.0
PRODID:-//BioImaging North America Site - ECPv6.15.20//NONSGML v1.0//EN
CALSCALE:GREGORIAN
METHOD:PUBLISH
X-ORIGINAL-URL:https://www.bioimagingnorthamerica.org
X-WR-CALDESC:Events for BioImaging North America Site
REFRESH-INTERVAL;VALUE=DURATION:PT1H
X-Robots-Tag:noindex
X-PUBLISHED-TTL:PT1H
BEGIN:VTIMEZONE
TZID:America/Chicago
BEGIN:DAYLIGHT
TZOFFSETFROM:-0600
TZOFFSETTO:-0500
TZNAME:CDT
DTSTART:20250309T080000
END:DAYLIGHT
BEGIN:STANDARD
TZOFFSETFROM:-0500
TZOFFSETTO:-0600
TZNAME:CST
DTSTART:20251102T070000
END:STANDARD
BEGIN:DAYLIGHT
TZOFFSETFROM:-0600
TZOFFSETTO:-0500
TZNAME:CDT
DTSTART:20260308T080000
END:DAYLIGHT
BEGIN:STANDARD
TZOFFSETFROM:-0500
TZOFFSETTO:-0600
TZNAME:CST
DTSTART:20261101T070000
END:STANDARD
BEGIN:DAYLIGHT
TZOFFSETFROM:-0600
TZOFFSETTO:-0500
TZNAME:CDT
DTSTART:20270314T080000
END:DAYLIGHT
BEGIN:STANDARD
TZOFFSETFROM:-0500
TZOFFSETTO:-0600
TZNAME:CST
DTSTART:20271107T070000
END:STANDARD
END:VTIMEZONE
BEGIN:VEVENT
DTSTART;TZID=America/Chicago:20260205T130000
DTEND;TZID=America/Chicago:20260205T140000
DTSTAMP:20260423T033037
CREATED:20260220T224247Z
LAST-MODIFIED:20260220T224247Z
UID:3685-1770296400-1770300000@www.bioimagingnorthamerica.org
SUMMARY:Career Speaker Series
DESCRIPTION:
URL:https://www.bioimagingnorthamerica.org/event/career-speaker-series/
END:VEVENT
BEGIN:VEVENT
DTSTART;TZID=America/Chicago:20260206T100000
DTEND;TZID=America/Chicago:20260206T110000
DTSTAMP:20260423T033037
CREATED:20260220T224227Z
LAST-MODIFIED:20260220T224227Z
UID:3683-1770372000-1770375600@www.bioimagingnorthamerica.org
SUMMARY:AIMM User Group
DESCRIPTION:
URL:https://www.bioimagingnorthamerica.org/event/aimm-user-group/
END:VEVENT
BEGIN:VEVENT
DTSTART;TZID=America/Chicago:20260210T120000
DTEND;TZID=America/Chicago:20260210T130000
DTSTAMP:20260423T033037
CREATED:20260220T224208Z
LAST-MODIFIED:20260220T224208Z
UID:3684-1770724800-1770728400@www.bioimagingnorthamerica.org
SUMMARY:Scientific Speaker Series
DESCRIPTION:
URL:https://www.bioimagingnorthamerica.org/event/scientific-speaker-series/
END:VEVENT
BEGIN:VEVENT
DTSTART;TZID=America/Chicago:20260212T100000
DTEND;TZID=America/Chicago:20260212T110000
DTSTAMP:20260423T033037
CREATED:20260220T224107Z
LAST-MODIFIED:20260220T224107Z
UID:3686-1770890400-1770894000@www.bioimagingnorthamerica.org
SUMMARY:Nanoscopy User Group
DESCRIPTION:
URL:https://www.bioimagingnorthamerica.org/event/nanoscopy-user-group/
END:VEVENT
BEGIN:VEVENT
DTSTART;TZID=America/Chicago:20260218T120000
DTEND;TZID=America/Chicago:20260218T130000
DTSTAMP:20260423T033037
CREATED:20260220T224052Z
LAST-MODIFIED:20260220T224052Z
UID:3681-1771416000-1771419600@www.bioimagingnorthamerica.org
SUMMARY:Insights & Educational Tools Series
DESCRIPTION:
URL:https://www.bioimagingnorthamerica.org/event/insights-educational-tools-series/
END:VEVENT
BEGIN:VEVENT
DTSTART;TZID=America/Chicago:20260225T120000
DTEND;TZID=America/Chicago:20260225T130000
DTSTAMP:20260423T033037
CREATED:20260220T224036Z
LAST-MODIFIED:20260220T224036Z
UID:3666-1772020800-1772024400@www.bioimagingnorthamerica.org
SUMMARY:BINA Community Conversations
DESCRIPTION:
URL:https://www.bioimagingnorthamerica.org/event/bina-community-conversations/
END:VEVENT
END:VCALENDAR